BEGIN:VCALENDAR
VERSION:2.0
PRODID:-//Tomar la calle - ECPv6.15.20//NONSGML v1.0//EN
CALSCALE:GREGORIAN
METHOD:PUBLISH
X-ORIGINAL-URL:https://tomarlacalle.com
X-WR-CALDESC:Eventos para Tomar la calle
REFRESH-INTERVAL;VALUE=DURATION:PT1H
X-Robots-Tag:noindex
X-PUBLISHED-TTL:PT1H
BEGIN:VTIMEZONE
TZID:America/Mexico_City
BEGIN:STANDARD
TZOFFSETFROM:-0600
TZOFFSETTO:-0600
TZNAME:CST
DTSTART:20250101T000000
END:STANDARD
END:VTIMEZONE
BEGIN:VEVENT
DTSTART;TZID=America/Mexico_City:20260321T090000
DTEND;TZID=America/Mexico_City:20260321T110000
DTSTAMP:20260420T041529
CREATED:20260311T193114Z
LAST-MODIFIED:20260311T193114Z
UID:10000015-1774083600-1774090800@tomarlacalle.com
SUMMARY:Caminata fotográfica Caracas\, Ven
DESCRIPTION:
URL:https://tomarlacalle.com/evento/caminata-fotografica-caracas-ven/
LOCATION:Plaza bolivar de chacao\, Av. Mohedano y Calle Páez\, Caracas\, Distrito capital\, 1060\, Venezuela
CATEGORIES:Photowalk
ATTACH;FMTTYPE=image/jpeg:https://tomarlacalle.com/wp-content/uploads/2026/03/WhatsApp-Image-2026-03-09-at-5.47.25-PM.jpeg
ORGANIZER;CN="Tomar la calle":MAILTO:contacto@tomarlacalle.com
END:VEVENT
END:VCALENDAR