BEGIN:VCALENDAR
VERSION:2.0
PRODID:-//Tomar la calle - ECPv6.15.20//NONSGML v1.0//EN
CALSCALE:GREGORIAN
METHOD:PUBLISH
X-WR-CALNAME:Tomar la calle
X-ORIGINAL-URL:https://tomarlacalle.com
X-WR-CALDESC:Eventos para Tomar la calle
REFRESH-INTERVAL;VALUE=DURATION:PT1H
X-Robots-Tag:noindex
X-PUBLISHED-TTL:PT1H
BEGIN:VTIMEZONE
TZID:America/Montevideo
BEGIN:STANDARD
TZOFFSETFROM:-0300
TZOFFSETTO:-0300
TZNAME:-03
DTSTART:20250101T000000
END:STANDARD
END:VTIMEZONE
BEGIN:VEVENT
DTSTART;TZID=America/Montevideo:20260301T103000
DTEND;TZID=America/Montevideo:20260301T123000
DTSTAMP:20260420T024132
CREATED:20260211T032403Z
LAST-MODIFIED:20260222T082302Z
UID:10000008-1772361000-1772368200@tomarlacalle.com
SUMMARY:Caminata fotográfica Montevideo\, Uruguay
DESCRIPTION:
URL:https://tomarlacalle.com/evento/caminata-fotografica-montevideo-uruguay/
LOCATION:Biblioteca Nacional de Uruguay\, Av. 18 de Julio 1790\, Montevideo\, Departamento de Montevideo\, 11200\, Uruguay
CATEGORIES:Photowalk
ATTACH;FMTTYPE=image/png:https://tomarlacalle.com/wp-content/uploads/2026/01/9.png
ORGANIZER;CN="Tomar la calle":MAILTO:contacto@tomarlacalle.com
END:VEVENT
END:VCALENDAR